BEGIN:VCALENDAR
VERSION:2.0
PRODID:-//Indy Bag Ladies - ECPv6.15.20//NONSGML v1.0//EN
CALSCALE:GREGORIAN
METHOD:PUBLISH
X-WR-CALNAME:Indy Bag Ladies
X-ORIGINAL-URL:https://www.indybagladies.org
X-WR-CALDESC:Events for Indy Bag Ladies
REFRESH-INTERVAL;VALUE=DURATION:PT1H
X-Robots-Tag:noindex
X-PUBLISHED-TTL:PT1H
BEGIN:VTIMEZONE
TZID:UTC
BEGIN:STANDARD
TZOFFSETFROM:+0000
TZOFFSETTO:+0000
TZNAME:UTC
DTSTART:20160101T000000
END:STANDARD
END:VTIMEZONE
BEGIN:VEVENT
DTSTART;TZID=UTC:20170608T210000
DTEND;TZID=UTC:20170608T230000
DTSTAMP:20260425T023427
CREATED:20190128T063920Z
LAST-MODIFIED:20190201T101118Z
UID:901-1496955600-1496962800@www.indybagladies.org
SUMMARY:Bag Ladies: Loud & Proud
DESCRIPTION:Join the Bag Ladies as we kick off Pride Weekend in Indianapolis with Bag Ladies: Loud & Proud. Doors open at 8:00 p.m. Showtime is 9:00 p.m. Suggested cover donation: $5.00 All proceeds will benefit the Gregory Powers Direct Emergency Financial Assistance (DEFA) Fund. Event sponsor: Ketel One Vodka!
URL:https://www.indybagladies.org/events/bag-ladies-loud-proud/
LOCATION:Greg’s Indy 231 E 16th St Indianapolis Indiana 46202
CATEGORIES:Fundraiser,Show
ATTACH;FMTTYPE=image/jpeg:https://www.indybagladies.org/wp-content/uploads/2019/01/Loud-Proud-1.jpg
ORGANIZER;CN="Cadillac Barbie":MAILTO:cadillacbarbieindy@yahoo.com
END:VEVENT
END:VCALENDAR