BEGIN:VCALENDAR
VERSION:2.0
PRODID:-//Indy Bag Ladies - ECPv6.15.20//NONSGML v1.0//EN
CALSCALE:GREGORIAN
METHOD:PUBLISH
X-WR-CALNAME:Indy Bag Ladies
X-ORIGINAL-URL:https://www.indybagladies.org
X-WR-CALDESC:Events for Indy Bag Ladies
REFRESH-INTERVAL;VALUE=DURATION:PT1H
X-Robots-Tag:noindex
X-PUBLISHED-TTL:PT1H
BEGIN:VTIMEZONE
TZID:UTC
BEGIN:STANDARD
TZOFFSETFROM:+0000
TZOFFSETTO:+0000
TZNAME:UTC
DTSTART:20170101T000000
END:STANDARD
END:VTIMEZONE
BEGIN:VEVENT
DTSTART;TZID=UTC:20180929T150000
DTEND;TZID=UTC:20180929T170000
DTSTAMP:20260423T200843
CREATED:20190128T065305Z
LAST-MODIFIED:20190201T101012Z
UID:912-1538233200-1538240400@www.indybagladies.org
SUMMARY:Bag Lady Bus Tour Launch Party
DESCRIPTION:Come out and find out the theme for the 38th Annual Bag Lady Bus Tour and sign up to ride the bus!  You will have a blast! \nDrink Specials at Launch party!
URL:https://www.indybagladies.org/events/bag-lady-bus-tour-launch-party/
LOCATION:Tini 717 Mass Avenue Indianapolis IN
END:VEVENT
END:VCALENDAR