BEGIN:VCALENDAR
VERSION:2.0
PRODID:-//Indy Bag Ladies - ECPv6.15.20//NONSGML v1.0//EN
CALSCALE:GREGORIAN
METHOD:PUBLISH
X-ORIGINAL-URL:https://www.indybagladies.org
X-WR-CALDESC:Events for Indy Bag Ladies
REFRESH-INTERVAL;VALUE=DURATION:PT1H
X-Robots-Tag:noindex
X-PUBLISHED-TTL:PT1H
BEGIN:VTIMEZONE
TZID:UTC
BEGIN:STANDARD
TZOFFSETFROM:+0000
TZOFFSETTO:+0000
TZNAME:UTC
DTSTART:20170101T000000
END:STANDARD
END:VTIMEZONE
BEGIN:VEVENT
DTSTART;TZID=UTC:20181021T200000
DTEND;TZID=UTC:20181022T220000
DTSTAMP:20260423T200814
CREATED:20190128T065512Z
LAST-MODIFIED:20190201T100946Z
UID:916-1540152000-1540245600@www.indybagladies.org
SUMMARY:Bag Lady Showcase
DESCRIPTION:Join the Bag Ladies as they deliver the best entertainment east of the White River and west of Alabama Street. This Showcase will introduce you to the individual talents of the Former Bag Lady Queens and allow you to meet and get to know the current Bag Lady Queen contestants. The event will also show off the talents of the “ladies” who wish to be crowned the 2018 Bag Lady Queen. The new Queen will be crowned at the end of the Bag Lady Bus Tour on October 27.  Doors open at 7:00 p.m.  Show starts at 8:00 p.m.  Suggested donation:  $5.00 to the Direct Emergency Assistance (DEFA) Fund.
URL:https://www.indybagladies.org/events/bag-lady-showcase/
LOCATION:Gregs 231 East 16th Street Indianapolis IN
CATEGORIES:Fundraiser,Show
END:VEVENT
END:VCALENDAR