BEGIN:VCALENDAR
VERSION:2.0
PRODID:-//Indy Bag Ladies - ECPv6.15.20//NONSGML v1.0//EN
CALSCALE:GREGORIAN
METHOD:PUBLISH
X-WR-CALNAME:Indy Bag Ladies
X-ORIGINAL-URL:https://www.indybagladies.org
X-WR-CALDESC:Events for Indy Bag Ladies
REFRESH-INTERVAL;VALUE=DURATION:PT1H
X-Robots-Tag:noindex
X-PUBLISHED-TTL:PT1H
BEGIN:VTIMEZONE
TZID:UTC
BEGIN:STANDARD
TZOFFSETFROM:+0000
TZOFFSETTO:+0000
TZNAME:UTC
DTSTART:20180101T000000
END:STANDARD
END:VTIMEZONE
BEGIN:VEVENT
DTSTART;TZID=UTC:20190325T130000
DTEND;TZID=UTC:20190325T223000
DTSTAMP:20260423T011452
CREATED:20190107T095013Z
LAST-MODIFIED:20190124T095202Z
UID:141-1553518800-1553553000@www.indybagladies.org
SUMMARY:Survivor's Brunch 2018
DESCRIPTION:
URL:https://www.indybagladies.org/events/survivors-brunch-2018/
LOCATION:Liberty Country Club\, 1391 US-27\, Liberty\, IN\, 47353\, United States
END:VEVENT
END:VCALENDAR