BEGIN:VCALENDAR
VERSION:2.0
PRODID:-//Indy Bag Ladies - ECPv6.15.20//NONSGML v1.0//EN
CALSCALE:GREGORIAN
METHOD:PUBLISH
X-ORIGINAL-URL:https://www.indybagladies.org
X-WR-CALDESC:Events for Indy Bag Ladies
REFRESH-INTERVAL;VALUE=DURATION:PT1H
X-Robots-Tag:noindex
X-PUBLISHED-TTL:PT1H
BEGIN:VTIMEZONE
TZID:America/Indiana/Indianapolis
BEGIN:DAYLIGHT
TZOFFSETFROM:-0500
TZOFFSETTO:-0400
TZNAME:EDT
DTSTART:20180311T070000
END:DAYLIGHT
BEGIN:STANDARD
TZOFFSETFROM:-0400
TZOFFSETTO:-0500
TZNAME:EST
DTSTART:20181104T060000
END:STANDARD
BEGIN:DAYLIGHT
TZOFFSETFROM:-0500
TZOFFSETTO:-0400
TZNAME:EDT
DTSTART:20190310T070000
END:DAYLIGHT
BEGIN:STANDARD
TZOFFSETFROM:-0400
TZOFFSETTO:-0500
TZNAME:EST
DTSTART:20191103T060000
END:STANDARD
BEGIN:DAYLIGHT
TZOFFSETFROM:-0500
TZOFFSETTO:-0400
TZNAME:EDT
DTSTART:20200308T070000
END:DAYLIGHT
BEGIN:STANDARD
TZOFFSETFROM:-0400
TZOFFSETTO:-0500
TZNAME:EST
DTSTART:20201101T060000
END:STANDARD
END:VTIMEZONE
BEGIN:VEVENT
DTSTART;TZID=America/Indiana/Indianapolis:20190606T200000
DTEND;TZID=America/Indiana/Indianapolis:20190606T230000
DTSTAMP:20260422T195610
CREATED:20190524T084159Z
LAST-MODIFIED:20190606T090752Z
UID:1534-1559851200-1559862000@www.indybagladies.org
SUMMARY:Loud & Proud
DESCRIPTION:Start celebrating Pride Weekend with The Bag Ladies “Loud & Proud” – a fundraising event for the Gregory Powers Direct Emergency Financial Assistance (DEFA) Fund. \n  \n$5 suggested donation at the door; all donations\, including performer tips will be donated to DEFA.
URL:https://www.indybagladies.org/events/loud-proud/
LOCATION:Greg’s Our Place 231 E 16th St Indianapolis Indiana 46202
ORGANIZER;CN="Latrina Bidet and Sparkle Nightly":MAILTO:joeyred515@yahoo.com
END:VEVENT
END:VCALENDAR