BEGIN:VCALENDAR
VERSION:2.0
PRODID:-//Indy Bag Ladies - ECPv6.15.20//NONSGML v1.0//EN
CALSCALE:GREGORIAN
METHOD:PUBLISH
X-ORIGINAL-URL:https://www.indybagladies.org
X-WR-CALDESC:Events for Indy Bag Ladies
REFRESH-INTERVAL;VALUE=DURATION:PT1H
X-Robots-Tag:noindex
X-PUBLISHED-TTL:PT1H
BEGIN:VTIMEZONE
TZID:UTC
BEGIN:STANDARD
TZOFFSETFROM:+0000
TZOFFSETTO:+0000
TZNAME:UTC
DTSTART:20180101T000000
END:STANDARD
END:VTIMEZONE
BEGIN:VEVENT
DTSTART;TZID=UTC:20191005T183000
DTEND;TZID=UTC:20191005T210000
DTSTAMP:20260422T134045
CREATED:20191001T185535Z
LAST-MODIFIED:20191001T194722Z
UID:1941-1570300200-1570309200@www.indybagladies.org
SUMMARY:Another Night On the Bayou
DESCRIPTION:After a brief hiatus\, Another Night on the Bayou is returning to Zonie’s Closet! \nPlease join us for this fundraiser to benefit the Damien Center’s Coby Palmer Food Pantry. For just $10 you’ll get to belly-up to the all-you-care-to-eat buffet featuring fried fish and chicken\, sausage jambalaya\, red beans & rice\, cole slaw\, hush puppies\, bread pudding and sweet tea & lemonade. Zonie’s will also feature a Hurricane drink special in addition to providing full bar service. \n \nBag Ladies Queens Halle Pino (2009)\, Holly Luyah (2010)\, Latrina Bidet (2011)\, Pollyanna Parker (2017) and June Taylor (2018) will be joined by extra special guest Lola Palooza and Bag Ladies Queen Candidates Robyn D’Banques and Barbra Pleaze to provide a blues and bayou-themed drag show under the stars on the deck at Zonie’s Closet. C’mon down for the buffet\, booze and blues to rock your way through the weekend. 100% of all ticket sales and performer tips collected will go to the Coby Palmer Food Pantry. \nZonie’s is a cash only bar…ATM available. \nTickets available at HTTPS://M.BPT.ME/EVENT/4353941 or at the door on the day of the event. \n  \n 
URL:https://www.indybagladies.org/events/another-night-on-the-bayou/
LOCATION:Zonie’s Closet 1446 E Washington St Indianapolis IN 46201
ATTACH;FMTTYPE=image/jpeg:https://www.indybagladies.org/wp-content/uploads/2019/10/ANOTB-2019.jpg
ORGANIZER;CN="Halle Pino":MAILTO:thehallepino@gmail.com
END:VEVENT
END:VCALENDAR