BEGIN:VCALENDAR
VERSION:2.0
PRODID:-//Indy Bag Ladies - ECPv6.15.20//NONSGML v1.0//EN
CALSCALE:GREGORIAN
METHOD:PUBLISH
X-ORIGINAL-URL:https://www.indybagladies.org
X-WR-CALDESC:Events for Indy Bag Ladies
REFRESH-INTERVAL;VALUE=DURATION:PT1H
X-Robots-Tag:noindex
X-PUBLISHED-TTL:PT1H
BEGIN:VTIMEZONE
TZID:UTC
BEGIN:STANDARD
TZOFFSETFROM:+0000
TZOFFSETTO:+0000
TZNAME:UTC
DTSTART:20180101T000000
END:STANDARD
END:VTIMEZONE
BEGIN:VEVENT
DTSTART;TZID=UTC:20191026T160000
DTEND;TZID=UTC:20191027T010000
DTSTAMP:20260422T132710
CREATED:20191001T190537Z
LAST-MODIFIED:20191001T195030Z
UID:1959-1572105600-1572138000@www.indybagladies.org
SUMMARY:2019 Bag Lady Bus Tour ~ "Old Showgirls Never Die!"
DESCRIPTION:  \n39th Annual Bag Lady Bus Tour\nJoin the Bag Ladies as we continue the bus tour tradition. This year’s event is Saturday\, October 26. Registration is at Greg’s from 4:00 – 5:30 p.m. Buses leave at 6:00 p.m.\nBus Tour Schedule coming soon!\nGet Tickets at:\nhttps://www.brownpapertickets.com/event/4351458
URL:https://www.indybagladies.org/events/2019-bag-lady-bus-tour-old-showgirls-never-die/
LOCATION:Greg’s Our Place 231 E 16th St Indianapolis Indiana 46202
ATTACH;FMTTYPE=image/jpeg:https://www.indybagladies.org/wp-content/uploads/2019/10/2019-Bag-Ladies-Bus-Tour.jpg
END:VEVENT
END:VCALENDAR