BEGIN:VCALENDAR
VERSION:2.0
PRODID:-//Indy Bag Ladies - ECPv6.15.20//NONSGML v1.0//EN
CALSCALE:GREGORIAN
METHOD:PUBLISH
X-WR-CALNAME:Indy Bag Ladies
X-ORIGINAL-URL:https://www.indybagladies.org
X-WR-CALDESC:Events for Indy Bag Ladies
REFRESH-INTERVAL;VALUE=DURATION:PT1H
X-Robots-Tag:noindex
X-PUBLISHED-TTL:PT1H
BEGIN:VTIMEZONE
TZID:UTC
BEGIN:STANDARD
TZOFFSETFROM:+0000
TZOFFSETTO:+0000
TZNAME:UTC
DTSTART:20180101T000000
END:STANDARD
END:VTIMEZONE
BEGIN:VEVENT
DTSTART;TZID=UTC:20191207T120000
DTEND;TZID=UTC:20191207T150000
DTSTAMP:20260422T101801
CREATED:20191001T192038Z
LAST-MODIFIED:20191017T150354Z
UID:1971-1575720000-1575730800@www.indybagladies.org
SUMMARY:Bag Ladies Bingo
DESCRIPTION:
URL:https://www.indybagladies.org/events/bag-ladies-bingo/
LOCATION:English Ivy’s 944 N. Alabama Street
ATTACH;FMTTYPE=image/jpeg:https://www.indybagladies.org/wp-content/uploads/2019/10/Bag-Ladies-Bingo-Final.jpg
END:VEVENT
END:VCALENDAR