BEGIN:VCALENDAR
VERSION:2.0
PRODID:-//Indy Bag Ladies - ECPv6.15.20//NONSGML v1.0//EN
CALSCALE:GREGORIAN
METHOD:PUBLISH
X-WR-CALNAME:Indy Bag Ladies
X-ORIGINAL-URL:https://www.indybagladies.org
X-WR-CALDESC:Events for Indy Bag Ladies
REFRESH-INTERVAL;VALUE=DURATION:PT1H
X-Robots-Tag:noindex
X-PUBLISHED-TTL:PT1H
BEGIN:VTIMEZONE
TZID:UTC
BEGIN:STANDARD
TZOFFSETFROM:+0000
TZOFFSETTO:+0000
TZNAME:UTC
DTSTART:20180101T000000
END:STANDARD
END:VTIMEZONE
BEGIN:VEVENT
DTSTART;TZID=UTC:20191215T190000
DTEND;TZID=UTC:20191215T213000
DTSTAMP:20260422T101839
CREATED:20191001T191755Z
LAST-MODIFIED:20191017T151724Z
UID:1968-1576436400-1576445400@www.indybagladies.org
SUMMARY:The Stockings Were Hung - Bag Ladies Holiday Show
DESCRIPTION:
URL:https://www.indybagladies.org/events/the-stockings-were-hung-bag-ladies-holiday-show/
LOCATION:Greg’s Our Place 231 E 16th St Indianapolis Indiana 46202
ATTACH;FMTTYPE=image/jpeg:https://www.indybagladies.org/wp-content/uploads/2019/10/Gay-Santa.jpg
END:VEVENT
END:VCALENDAR