BEGIN:VCALENDAR
VERSION:2.0
PRODID:-//Indy Bag Ladies - ECPv6.15.20//NONSGML v1.0//EN
CALSCALE:GREGORIAN
METHOD:PUBLISH
X-WR-CALNAME:Indy Bag Ladies
X-ORIGINAL-URL:https://www.indybagladies.org
X-WR-CALDESC:Events for Indy Bag Ladies
REFRESH-INTERVAL;VALUE=DURATION:PT1H
X-Robots-Tag:noindex
X-PUBLISHED-TTL:PT1H
BEGIN:VTIMEZONE
TZID:UTC
BEGIN:STANDARD
TZOFFSETFROM:+0000
TZOFFSETTO:+0000
TZNAME:UTC
DTSTART:20190101T000000
END:STANDARD
END:VTIMEZONE
BEGIN:VEVENT
DTSTART;TZID=UTC:20200209T200000
DTEND;TZID=UTC:20200209T220000
DTSTAMP:20260420T112144
CREATED:20200205T203311Z
LAST-MODIFIED:20200205T203311Z
UID:2016-1581278400-1581285600@www.indybagladies.org
SUMMARY:For the Love of Queens - A Royal Revue
DESCRIPTION:Come out for this Royal fundraising revue! Many of your favorite Bag Ladies Queens will give you the royal treatment in this show. All donations go to the DEFA Fund. Doors at 7:00 and the show starts at 8:00! Suggested door donation $5. Finish your Sunday Funday with us!
URL:https://www.indybagladies.org/events/for-the-love-of-queens-a-royal-revue/
LOCATION:Greg’s Our Place 231 E 16th St Indianapolis Indiana 46202
ATTACH;FMTTYPE=image/jpeg:https://www.indybagladies.org/wp-content/uploads/2020/02/Love-of-Queens-2020.jpg
END:VEVENT
END:VCALENDAR