BEGIN:VCALENDAR
VERSION:2.0
PRODID:-//Indy Bag Ladies - ECPv6.15.20//NONSGML v1.0//EN
CALSCALE:GREGORIAN
METHOD:PUBLISH
X-WR-CALNAME:Indy Bag Ladies
X-ORIGINAL-URL:https://www.indybagladies.org
X-WR-CALDESC:Events for Indy Bag Ladies
REFRESH-INTERVAL;VALUE=DURATION:PT1H
X-Robots-Tag:noindex
X-PUBLISHED-TTL:PT1H
BEGIN:VTIMEZONE
TZID:America/Indiana/Indianapolis
BEGIN:DAYLIGHT
TZOFFSETFROM:-0500
TZOFFSETTO:-0400
TZNAME:EDT
DTSTART:20180311T070000
END:DAYLIGHT
BEGIN:STANDARD
TZOFFSETFROM:-0400
TZOFFSETTO:-0500
TZNAME:EST
DTSTART:20181104T060000
END:STANDARD
BEGIN:DAYLIGHT
TZOFFSETFROM:-0500
TZOFFSETTO:-0400
TZNAME:EDT
DTSTART:20190310T070000
END:DAYLIGHT
BEGIN:STANDARD
TZOFFSETFROM:-0400
TZOFFSETTO:-0500
TZNAME:EST
DTSTART:20191103T060000
END:STANDARD
BEGIN:DAYLIGHT
TZOFFSETFROM:-0500
TZOFFSETTO:-0400
TZNAME:EDT
DTSTART:20200308T070000
END:DAYLIGHT
BEGIN:STANDARD
TZOFFSETFROM:-0400
TZOFFSETTO:-0500
TZNAME:EST
DTSTART:20201101T060000
END:STANDARD
END:VTIMEZONE
BEGIN:VTIMEZONE
TZID:UTC
BEGIN:STANDARD
TZOFFSETFROM:+0000
TZOFFSETTO:+0000
TZNAME:UTC
DTSTART:20180101T000000
END:STANDARD
END:VTIMEZONE
BEGIN:VEVENT
DTSTART;TZID=America/Indiana/Indianapolis:20190820T203000
DTEND;TZID=America/Indiana/Indianapolis:20190820T220000
DTSTAMP:20260422T151204
CREATED:20190813T195717Z
LAST-MODIFIED:20190822T115032Z
UID:1835-1566333000-1566338400@www.indybagladies.org
SUMMARY:Step Up to Greg's for a BINGO Resurrection
DESCRIPTION:Bring BINGO back from the dead with our special Sister Reverend Sequoia Pentecost\, Bag Lady Queen 2006. Drink\, laugh\, and win fabulous prizes with Step Up\, The Bag Ladies\, and Greg’s staff. $1 per card\, $5 for seven! All proceeds will benefit Step Up\, Inc.
URL:https://www.indybagladies.org/events/step-up-to-gregs-for-a-bingo-resurrection/
LOCATION:Greg’s Our Place 231 E 16th St Indianapolis Indiana 46202
CATEGORIES:Fundraiser
ATTACH;FMTTYPE=image/jpeg:https://www.indybagladies.org/wp-content/uploads/2019/08/67970610_10156538082916304_9068232075751981056_o.jpg
END:VEVENT
BEGIN:VEVENT
DTSTART;TZID=UTC:20190825T200000
DTEND;TZID=UTC:20190825T223000
DTSTAMP:20260422T151204
CREATED:20190815T212243Z
LAST-MODIFIED:20190815T212243Z
UID:1866-1566763200-1566772200@www.indybagladies.org
SUMMARY:The Bag Ladies' Turnabout Show
DESCRIPTION:A charity drag show where the partners of local queens do the performing. All tips will go to the Direct Emergency Financial Assistance (DEFA) fund.
URL:https://www.indybagladies.org/events/the-bag-ladies-turnabout-show/
LOCATION:Greg’s Our Place 231 E 16th St Indianapolis Indiana 46202
ATTACH;FMTTYPE=image/jpeg:https://www.indybagladies.org/wp-content/uploads/2019/08/67369694_873257733879_3006096697651625984_o.jpg
END:VEVENT
END:VCALENDAR